BEGIN:VCALENDAR
VERSION:2.0
PRODID:-//Manjushri Dharma Center - ECPv5.16.4.1//NONSGML v1.0//EN
CALSCALE:GREGORIAN
METHOD:PUBLISH
X-ORIGINAL-URL:https://manjushridharmacenter.org
X-WR-CALDESC:Events for Manjushri Dharma Center
REFRESH-INTERVAL;VALUE=DURATION:PT1H
X-Robots-Tag:noindex
X-PUBLISHED-TTL:PT1H
BEGIN:VTIMEZONE
TZID:America/Los_Angeles
BEGIN:DAYLIGHT
TZOFFSETFROM:-0800
TZOFFSETTO:-0700
TZNAME:PDT
DTSTART:20260308T100000
END:DAYLIGHT
BEGIN:STANDARD
TZOFFSETFROM:-0700
TZOFFSETTO:-0800
TZNAME:PST
DTSTART:20261101T090000
END:STANDARD
END:VTIMEZONE
BEGIN:VEVENT
DTSTART;TZID=America/Los_Angeles:20260425T100000
DTEND;TZID=America/Los_Angeles:20260425T110000
DTSTAMP:20260422T202232
CREATED:20260224T061939Z
LAST-MODIFIED:20260413T193802Z
UID:260048-1777111200-1777114800@manjushridharmacenter.org
SUMMARY:No Saturday Morning meditation
DESCRIPTION:Rinpoche will be teaching a two-session workshop for TLC Transitional Life Care\, a Vajrayana Buddhist end of life support and educational program\, on Saturday\, April 25th.  Regular Saturday morning meditation will not be hosted.  We hope to resume on May 2nd. \nFind out more about the teaching\, Entrance to Dewachen HERE
URL:https://manjushridharmacenter.org/event/no-saturday-morning-meditation-5/
LOCATION:CA
ATTACH;FMTTYPE=image/jpeg:https://manjushridharmacenter.org/wp-content/uploads/2025/09/18thAnnual-Dechen-Shingdrup-MABT-47.jpg
END:VEVENT
BEGIN:VEVENT
DTSTART;TZID=America/Los_Angeles:20260425T100000
DTEND;TZID=America/Los_Angeles:20260425T160000
DTSTAMP:20260422T202232
CREATED:20260314T004458Z
LAST-MODIFIED:20260413T190853Z
UID:260088-1777111200-1777132800@manjushridharmacenter.org
SUMMARY:Entrance to Dewachen
DESCRIPTION:This event is sponsored and hosted by  TLC Transitional Life Care\, a Vajrayana Buddhist education and support program offering spiritual resources for the end of life transition. \nEntrance to Dewachen on the Path to Amitabha’s Pure Realm\nKhenpo Karten Rinpoche\nof Manjushri Dharma Center\nTranslated by Isis Hao \nSaturday\, April 25\, 202610:00-12:00 & 2:00-4:00 PDT on Zoom \nSliding Scale Donation $45 – $65 \nREGISTER HERE \nNo one will be turned away for lack of funds and options are available. \n‘The Four Causes for Rebirth in Sukhavati’ is a classic Buddhist teaching that helps us realize our aspiration to fully integrate pure dharma during our lifetimes and to be reborn in Amitabha’s Pure Land following our dying process. Bringing the pure realm to mind\, gathering immeasurable roots of virtue\, generating bodhicitta\, and the dedication of merit through prayer will be our focus. Khenpo Karten Rinpoche is delighted to share this profound teaching and considers the topic “his specialty.” \nRegistration questions? Contact: tlcservesregistrar@gmail.comPlease note our new registrar’s updated email address.
URL:https://manjushridharmacenter.org/event/entrance-to-dewachen/
LOCATION:online event\, CA\, United States
CATEGORIES:Special Events
ATTACH;FMTTYPE=image/jpeg:https://manjushridharmacenter.org/wp-content/uploads/2026/03/KKR-Dewachen-promo.jpg
END:VEVENT
BEGIN:VEVENT
DTSTART;TZID=America/Los_Angeles:20260427T183000
DTEND;TZID=America/Los_Angeles:20260427T200000
DTSTAMP:20260422T202232
CREATED:20260224T054715Z
LAST-MODIFIED:20260327T015714Z
UID:260031-1777314600-1777320000@manjushridharmacenter.org
SUMMARY:Monday Night Chanted Prayers--Chenrezig Practice
DESCRIPTION:Avalokiteshvara\, or Chenrezig in Tibetan\, is the Bodhisattva who embodies the love and compassion of all Buddhas. Chenrezig is an important deity* in Tibet and considered the patron Bodhisattva of the Tibetan people. Chenrezig is also believed by Tibetans to be the actual progenitor of the Tibetan people.  His Holiness the Dalai Lama and His Holiness the Karmapa are considered living Buddhas\, emanations of Chenrezig. It is said that in Tibet even babies upon birth know the mantra OM MANI PADME HUM.\nChanted prayers are an important part of spiritual life\, regardless of where you are at on the path.  They allow us to still our minds\, connect with the blessings of the Buddhas\, and purify negative karma.   With these prayers we transform ourselves and our world into pure beings and pure lands\, free from suffering\, and connect with the energies of love and compassion.  Appropriate for beginners and seasoned practitioners alike.  Prayer books provided.  Donations are not expected\, but always welcome. \nMonday night prayers are held both in-person at the Dharma Center and virtually on Zoom.\n \nPlease do join us for this profound practice. Tashi Delek! \n\n\nText:\nhttps://manjushridharmacenter.org/wp-content/uploads/2021/08/ChenrezigPracticeText.pdf\n\n\n\n\n\nZoom Link to Join: \nhttps://us02web.zoom.us/j/86274306749?pwd=MHhxUmtQZlVmWDJKUklSS3QvV05rdz09\nMeeting ID: 862 7430 6749\nPasscode: Love=Peace\nOne tap mobile\n+16699009128\,\,86274306749#\,\,\,\,*4723131265# US (San Jose)\n+16694449171\,\,86274306749#\,\,\,\,*4723131265# US\n\n\nDial by your location\n        +1 669 900 9128 US (San Jose)\n        +1 669 444 9171 US\n        +1 719 359 4580 US\n        +1 253 205 0468 US\n        +1 253 215 8782 US (Tacoma)\n        +1 346 248 7799 US (Houston)\n        +1 564 217 2000 US\n        +1 646 558 8656 US (New York)\n        +1 646 931 3860 US\n        +1 689 278 1000 US\n        +1 301 715 8592 US (Washington DC)\n        +1 305 224 1968 US\n        +1 309 205 3325 US\n        +1 312 626 6799 US (Chicago)\n        +1 360 209 5623 US\n        +1 386 347 5053 US\n        +1 507 473 4847 US\nMeeting ID: 862 7430 6749\nPasscode: 4723131265\n\nFind your local number: https://us02web.zoom.us/u/kdVGgCWTHU \n\n\n*The word deity in Buddhist context is not the same as in the west.  A deity may have many meanings\, but one meaning is the timeless energies that are also within us\, rather than all-knowing beings outside ourselves. \n\n\n\n\n 
URL:https://manjushridharmacenter.org/event/monday-night-chanted-prayers-21/
LOCATION:Manjushri Dharma Center\, 724 Forest Ave\, Pacific Grove\, CA\, 93950\, United States
CATEGORIES:Puja
ATTACH;FMTTYPE=image/jpeg:https://manjushridharmacenter.org/wp-content/uploads/2024/10/Chenrezig.12.11.17_16x9.jpg
END:VEVENT
END:VCALENDAR