BEGIN:VCALENDAR
VERSION:2.0
PRODID:-//Manjushri Dharma Center - ECPv5.16.4.1//NONSGML v1.0//EN
CALSCALE:GREGORIAN
METHOD:PUBLISH
X-WR-CALNAME:Manjushri Dharma Center
X-ORIGINAL-URL:https://manjushridharmacenter.org
X-WR-CALDESC:Events for Manjushri Dharma Center
REFRESH-INTERVAL;VALUE=DURATION:PT1H
X-Robots-Tag:noindex
X-PUBLISHED-TTL:PT1H
BEGIN:VTIMEZONE
TZID:America/Los_Angeles
BEGIN:DAYLIGHT
TZOFFSETFROM:-0800
TZOFFSETTO:-0700
TZNAME:PDT
DTSTART:20220313T100000
END:DAYLIGHT
BEGIN:STANDARD
TZOFFSETFROM:-0700
TZOFFSETTO:-0800
TZNAME:PST
DTSTART:20221106T090000
END:STANDARD
END:VTIMEZONE
BEGIN:VEVENT
DTSTART;TZID=America/Los_Angeles:20221127T100000
DTEND;TZID=America/Los_Angeles:20221127T120000
DTSTAMP:20260423T013514
CREATED:20221118T205450Z
LAST-MODIFIED:20221118T205450Z
UID:252406-1669543200-1669550400@manjushridharmacenter.org
SUMMARY:Khenpo Karten Rinpoche public talk at the CSA: 'Contentment\, the Supreme of Wealth'
DESCRIPTION:Rinpoche has been invited to visit and hold a teaching with his longtime friends at the Center for Spiritual Awakening in Pacific Grove\, California. The event will be held on Sunday\, November 27th\, at 10:00AM at the CSA:\n522 Central Avenue (Pacific Grove\, CA) 93950\nRinpoche will teach on ‘Contentment\, the Supreme of Wealth’. Please do join for this special occasion! Rinpoche will also be accompanied by expert Tibetan translator\, Jampa Tharchin. Chanted prayers will be held with accomplished pianist\, Michael Martinez. \nThe event will also be livestreamed on the Center for Spiritual Awakenings website: \nhttps://www.centerforspiritualawakening.org/csa-sundays.html \nAnd on the CSA YouTube channel: \nhttps://www.youtube.com/channel/UCJQ751Yfg67eCuNxMQmj4lA
URL:https://manjushridharmacenter.org/event/khenpo-karten-rinpoche-public-talk-at-the-csa-contentment-the-supreme-of-wealth/
LOCATION:online event\, CA\, United States
CATEGORIES:Special Events
ATTACH;FMTTYPE=image/jpeg:https://manjushridharmacenter.org/wp-content/uploads/2022/11/unnamed-43.jpg
END:VEVENT
END:VCALENDAR