BEGIN:VCALENDAR
VERSION:2.0
PRODID:-//Manjushri Dharma Center - ECPv5.16.4.1//NONSGML v1.0//EN
CALSCALE:GREGORIAN
METHOD:PUBLISH
X-WR-CALNAME:Manjushri Dharma Center
X-ORIGINAL-URL:https://manjushridharmacenter.org
X-WR-CALDESC:Events for Manjushri Dharma Center
REFRESH-INTERVAL;VALUE=DURATION:PT1H
X-Robots-Tag:noindex
X-PUBLISHED-TTL:PT1H
BEGIN:VTIMEZONE
TZID:America/Los_Angeles
BEGIN:DAYLIGHT
TZOFFSETFROM:-0800
TZOFFSETTO:-0700
TZNAME:PDT
DTSTART:20230312T100000
END:DAYLIGHT
BEGIN:STANDARD
TZOFFSETFROM:-0700
TZOFFSETTO:-0800
TZNAME:PST
DTSTART:20231105T090000
END:STANDARD
END:VTIMEZONE
BEGIN:VEVENT
DTSTART;TZID=America/Los_Angeles:20230717T183000
DTEND;TZID=America/Los_Angeles:20230717T200000
DTSTAMP:20260419T143618
CREATED:20210802T200843Z
LAST-MODIFIED:20230520T223217Z
UID:253133-1689618600-1689624000@manjushridharmacenter.org
SUMMARY:Monday Night Chanted Prayers - Medicine Buddha
DESCRIPTION:Note* Monday night prayers are held both in-person at the Dharma Center and virtually on Zoom. \nOn Monday we will practice the prayers of Medicine Buddha (Buddha of Infinite Healing)\, creating the causes for a world that is healed from illness and disease.  You can find a link to the prayer text here:  MedicineBuddhaPuja_༄༅།-།སྨན་བླའི་སྒྲུབས་ཐབས་བཞུགས་སོ།-།.pdf \nAdditionally\, Rinpoche wrote a very short but beautiful teaching on the practice of Medicine Buddha\, which includes the visualization:  Medicine Buddha Practice for Corona Virus from Khenpo Karten Rinpoche\, posted on the Teachings page originally in March 2020. \nAlso\, our main Monday night prayer practice has always been Buddha Amitabha (the Buddha of Infinite Light)\, so we typically also recite the Amitabha mantra.  Here are two versions of that text–first a short version:  Amitabha Prayer Practice.    And here is the long text (this is our main text for practice):  The Recitation for Accomplishment of Sukhavati from the Sky Dharma Mind Terma. \nPlease join us as we wish for all beings to have health and peace of mind. \n\nZoom Link to Join: \nhttps://us02web.zoom.us/j/86274306749?pwd=MHhxUmtQZlVmWDJKUklSS3QvV05rdz09\nMeeting ID: 862 7430 6749\nPasscode: Love=Peace\nOne tap mobile\n+16699009128\,\,86274306749#\,\,\,\,*4723131265# US (San Jose)\n+16694449171\,\,86274306749#\,\,\,\,*4723131265# US\n\n\nDial by your location\n        +1 669 900 9128 US (San Jose)\n        +1 669 444 9171 US\n        +1 719 359 4580 US\n        +1 253 205 0468 US\n        +1 253 215 8782 US (Tacoma)\n        +1 346 248 7799 US (Houston)\n        +1 564 217 2000 US\n        +1 646 558 8656 US (New York)\n        +1 646 931 3860 US\n        +1 689 278 1000 US\n        +1 301 715 8592 US (Washington DC)\n        +1 305 224 1968 US\n        +1 309 205 3325 US\n        +1 312 626 6799 US (Chicago)\n        +1 360 209 5623 US\n        +1 386 347 5053 US\n        +1 507 473 4847 US\nMeeting ID: 862 7430 6749\nPasscode: 4723131265\nFind your local number: https://us02web.zoom.us/u/kdVGgCWTHU
URL:https://manjushridharmacenter.org/event/monday-night-chanted-prayers-online-medicine-buddha-4-2023-07-17/
LOCATION:online event\, CA\, United States
CATEGORIES:Puja
ATTACH;FMTTYPE=image/jpeg:https://manjushridharmacenter.org/wp-content/uploads/2020/03/MedicineBuddha-photocreditMilesMcBreenMDCSangha-scaled.jpg
END:VEVENT
END:VCALENDAR