BEGIN:VCALENDAR
VERSION:2.0
PRODID:-//Manjushri Dharma Center - ECPv5.16.4.1//NONSGML v1.0//EN
CALSCALE:GREGORIAN
METHOD:PUBLISH
X-ORIGINAL-URL:https://manjushridharmacenter.org
X-WR-CALDESC:Events for Manjushri Dharma Center
REFRESH-INTERVAL;VALUE=DURATION:PT1H
X-Robots-Tag:noindex
X-PUBLISHED-TTL:PT1H
BEGIN:VTIMEZONE
TZID:America/Los_Angeles
BEGIN:DAYLIGHT
TZOFFSETFROM:-0800
TZOFFSETTO:-0700
TZNAME:PDT
DTSTART:20230312T100000
END:DAYLIGHT
BEGIN:STANDARD
TZOFFSETFROM:-0700
TZOFFSETTO:-0800
TZNAME:PST
DTSTART:20231105T090000
END:STANDARD
END:VTIMEZONE
BEGIN:VEVENT
DTSTART;TZID=America/Los_Angeles:20230729T110000
DTEND;TZID=America/Los_Angeles:20230729T120000
DTSTAMP:20260419T143857
CREATED:20230626T000940Z
LAST-MODIFIED:20230728T154735Z
UID:253569-1690628400-1690632000@manjushridharmacenter.org
SUMMARY:General Sangha Meeting 2023
DESCRIPTION:Reminder: All Sangha Meeting\, Saturday\, July 29 at 11:30 Pacific after Meditation\nIn Person and On Zoom \nDear MDC Sangha members\, \nJust a note to remind you of our annual meeting—whether you’re new to Manjushri Dharma Center of a long-time member\, please join us for this chance to strengthen our connections as a Sangha. \nCovid has affected all our lives\, and while we have all grown more comfortable getting together via Zoom\, one of the most tangible impacts on our MDC community has been that\, since 2020\, we have not had an in-person retreat and the general meeting of the Sangha that traditionally has been part of that retreat. To remedy the latter situation\, the MDC Board recently decided to call a general meeting of all MDC Sangha members for Saturday\, the 29th of July at 11:30 am at the MDC. Though we encourage you to attend in person\, we provide a zoom link to the meeting below so that Sangha members everywhere can attend. \nThis meeting is a great chance to hear about changes that have transpired at the MDC recently as well as some upcoming initiatives that the Board is considering. Please let me know directly if you have time that you could commit to helping MDC in its mission\, as we are always looking for more help to extend the reach of Khenpo Karten Rinpoche’s precious teaching and counsel. \nI really hope to see you all on the 29th of July\, right after morning meditation with Rinpoche! \nWink/Karma Dorje \nMDC Board President \nmobile: 607 227-0558 \nZoom Link: \nOnline via the MDC Zoom:   \nhttps://us02web.zoom.us/j/86274306749?pwd=MHhxUmtQZlVmWDJKUklSS3QvV05rdz09\nMeeting ID: 862 7430 6749\nPasscode: Love=Peace
URL:https://manjushridharmacenter.org/event/general-sangha-meeting-2023/
LOCATION:Manjushri Dharma Center\, 724 Forest Ave\, Pacific Grove\, CA\, 93950\, United States
CATEGORIES:Discussion/Support,Special Events
ATTACH;FMTTYPE=image/jpeg:https://manjushridharmacenter.org/wp-content/uploads/2023/06/87578510_10219705169013844_1148114044633219072_n.jpg
END:VEVENT
END:VCALENDAR