BEGIN:VCALENDAR
VERSION:2.0
PRODID:-//Manjushri Dharma Center - ECPv5.16.4.1//NONSGML v1.0//EN
CALSCALE:GREGORIAN
METHOD:PUBLISH
X-WR-CALNAME:Manjushri Dharma Center
X-ORIGINAL-URL:https://manjushridharmacenter.org
X-WR-CALDESC:Events for Manjushri Dharma Center
REFRESH-INTERVAL;VALUE=DURATION:PT1H
X-Robots-Tag:noindex
X-PUBLISHED-TTL:PT1H
BEGIN:VTIMEZONE
TZID:America/Los_Angeles
BEGIN:DAYLIGHT
TZOFFSETFROM:-0800
TZOFFSETTO:-0700
TZNAME:PDT
DTSTART:20230312T100000
END:DAYLIGHT
BEGIN:STANDARD
TZOFFSETFROM:-0700
TZOFFSETTO:-0800
TZNAME:PST
DTSTART:20231105T090000
END:STANDARD
END:VTIMEZONE
BEGIN:VEVENT
DTSTART;TZID=America/Los_Angeles:20230828T183000
DTEND;TZID=America/Los_Angeles:20230828T200000
DTSTAMP:20260419T122748
CREATED:20230815T030329Z
LAST-MODIFIED:20230815T030329Z
UID:253702-1693247400-1693252800@manjushridharmacenter.org
SUMMARY:No Monday Night Meditation
DESCRIPTION:There will be no Monday night prayer practice on August 21st or August 28th\, as Rinpoche leads the 16th Annual Amitabha Dechen Shingdrup 2023.   The next prayer practice will be likely September 4\, which is also the Labor Day holiday.  The MDC newsletter will have the most up-to-date information.  Sign up to receive the newsletter HERE. \n  \nPhoto courtesy of Miles McBreen.
URL:https://manjushridharmacenter.org/event/no-monday-night-meditation/
LOCATION:Manjushri Dharma Center\, 724 Forest Ave\, Pacific Grove\, CA\, 93950\, United States
ATTACH;FMTTYPE=image/jpeg:https://manjushridharmacenter.org/wp-content/uploads/2023/08/MilesMcBreen_bigsur-12wm.jpg
END:VEVENT
END:VCALENDAR