BEGIN:VCALENDAR
VERSION:2.0
PRODID:-//Manjushri Dharma Center - ECPv5.16.4.1//NONSGML v1.0//EN
CALSCALE:GREGORIAN
METHOD:PUBLISH
X-WR-CALNAME:Manjushri Dharma Center
X-ORIGINAL-URL:https://manjushridharmacenter.org
X-WR-CALDESC:Events for Manjushri Dharma Center
REFRESH-INTERVAL;VALUE=DURATION:PT1H
X-Robots-Tag:noindex
X-PUBLISHED-TTL:PT1H
BEGIN:VTIMEZONE
TZID:America/Los_Angeles
BEGIN:DAYLIGHT
TZOFFSETFROM:-0800
TZOFFSETTO:-0700
TZNAME:PDT
DTSTART:20230312T100000
END:DAYLIGHT
BEGIN:STANDARD
TZOFFSETFROM:-0700
TZOFFSETTO:-0800
TZNAME:PST
DTSTART:20231105T090000
END:STANDARD
END:VTIMEZONE
BEGIN:VEVENT
DTSTART;TZID=America/Los_Angeles:20230901T080000
DTEND;TZID=America/Los_Angeles:20230914T170000
DTSTAMP:20260419T064547
CREATED:20230817T031851Z
LAST-MODIFIED:20230817T031851Z
UID:253724-1693555200-1694710800@manjushridharmacenter.org
SUMMARY:East Coast Trip 2023
DESCRIPTION:Following the 16th Annual Amitabha Retreat in Portland\, OR\, Rinpoche will continue on to the East Coast where he will give teachings and meet with students\, family\, and friends\, as it has been some years since Khenpo La visited his Sanghas on the East Coast. Here is a tentative schedule of Rinpoche’s East Coast Trip:\n\n9/1 – 9/3 in New York\, NY\n9/4 in New Jersey\n9/5 – 9/8 in Boston\, MA\n9/9 – 9/11 Chicago\, IL\n9/11 – 9/13 Minneapolis\, MN\n9/14 return to Pacific Grove\, CA\n\nPlease stayed tuned for updates on Rinpoche’s tour!
URL:https://manjushridharmacenter.org/event/east-coast-trip-2023/
LOCATION:CA
CATEGORIES:Special Events
ATTACH;FMTTYPE=image/jpeg:https://manjushridharmacenter.org/wp-content/uploads/2023/08/unnamed-55.jpg
END:VEVENT
END:VCALENDAR