BEGIN:VCALENDAR
VERSION:2.0
PRODID:-//Manjushri Dharma Center - ECPv5.16.4.1//NONSGML v1.0//EN
CALSCALE:GREGORIAN
METHOD:PUBLISH
X-WR-CALNAME:Manjushri Dharma Center
X-ORIGINAL-URL:https://manjushridharmacenter.org
X-WR-CALDESC:Events for Manjushri Dharma Center
REFRESH-INTERVAL;VALUE=DURATION:PT1H
X-Robots-Tag:noindex
X-PUBLISHED-TTL:PT1H
BEGIN:VTIMEZONE
TZID:America/Los_Angeles
BEGIN:DAYLIGHT
TZOFFSETFROM:-0800
TZOFFSETTO:-0700
TZNAME:PDT
DTSTART:20220313T100000
END:DAYLIGHT
BEGIN:STANDARD
TZOFFSETFROM:-0700
TZOFFSETTO:-0800
TZNAME:PST
DTSTART:20221106T090000
END:STANDARD
END:VTIMEZONE
BEGIN:VEVENT
DTSTART;TZID=America/Los_Angeles:20221130T190000
DTEND;TZID=America/Los_Angeles:20221130T203000
DTSTAMP:20260422T201721
CREATED:20221030T173122Z
LAST-MODIFIED:20221030T173821Z
UID:252348-1669834800-1669840200@manjushridharmacenter.org
SUMMARY:Special Event! Spiritual Journeys: Stories and pictures of the Dalai Lama and Tibetans in exile
DESCRIPTION:Wednesday night\, 11/30/22\, at 7:00PM at the Center for Spiritual Awakening in Pacific Grove\, CA\, Dr. Ginger Chih will be sharing photos and stories of His Holiness the Dalai Lama and the Tibetan people in exile. Khenpo Karten Rinpoche\, the spiritual director of Pacific Grove’s Manjushri Dharma Center\, will also be sharing stories of his life in Buddhism and with the Dalai Lama. \nThis event is free and open to the community\, but donations are welcome. First editions of Ginger’s The Dalai Lama: Leadership and the Power of Compassion signed by the author\, will be available as a fundraiser for the creation of an outdoor meditation and meeting space at the Manjushri Dharma Center on Forest Avenue. \nIf you have any questions about the event\, please contact the MDC President\, David Winkler\, at wink01@gmail.com
URL:https://manjushridharmacenter.org/event/spiritual-journeys-stories-and-pictures-of-the-dalai-lama-and-tibetans-in-exile/
LOCATION:online event\, CA\, United States
CATEGORIES:Discussion/Support,Special Events
ATTACH;FMTTYPE=image/png:https://manjushridharmacenter.org/wp-content/uploads/2022/10/KKRGinger-1.png
END:VEVENT
END:VCALENDAR