BEGIN:VCALENDAR
VERSION:2.0
PRODID:-//Manjushri Dharma Center - ECPv5.16.4.1//NONSGML v1.0//EN
CALSCALE:GREGORIAN
METHOD:PUBLISH
X-WR-CALNAME:Manjushri Dharma Center
X-ORIGINAL-URL:https://manjushridharmacenter.org
X-WR-CALDESC:Events for Manjushri Dharma Center
REFRESH-INTERVAL;VALUE=DURATION:PT1H
X-Robots-Tag:noindex
X-PUBLISHED-TTL:PT1H
BEGIN:VTIMEZONE
TZID:America/Los_Angeles
BEGIN:DAYLIGHT
TZOFFSETFROM:-0800
TZOFFSETTO:-0700
TZNAME:PDT
DTSTART:20180311T100000
END:DAYLIGHT
BEGIN:STANDARD
TZOFFSETFROM:-0700
TZOFFSETTO:-0800
TZNAME:PST
DTSTART:20181104T090000
END:STANDARD
END:VTIMEZONE
BEGIN:VEVENT
DTSTART;TZID=America/Los_Angeles:20180303T100000
DTEND;TZID=America/Los_Angeles:20180303T110000
DTSTAMP:20260423T171511
CREATED:20180129T232059Z
LAST-MODIFIED:20180129T232059Z
UID:4187-1520071200-1520074800@manjushridharmacenter.org
SUMMARY:Saturday Morning Meditation
DESCRIPTION:Join us on Saturday mornings for meditation practice.  In Rinpoche’s absence\, meditation class will be student-led\, with a brief reading from Rinpoche’s “Meditation 101” or brief video shown\, followed by silent meditation.  We will delight our teacher by putting his teachings into practice as we learn to consciously relax our bodies\, calm our minds\, and ultimately experience our own minds directly\, naturally\, and blissfully.   A donation of $10.00 per class is requested\, but no one will be turned away for lack of funds.
URL:https://manjushridharmacenter.org/event/saturday-morning-meditation-16/
LOCATION:Private Residence\, CA\, United States
CATEGORIES:Meditation
ATTACH;FMTTYPE=image/jpeg:https://manjushridharmacenter.org/wp-content/uploads/2017/11/meditation-857916_960_720.jpg
END:VEVENT
BEGIN:VEVENT
DTSTART;TZID=America/Los_Angeles:20180310T100000
DTEND;TZID=America/Los_Angeles:20180310T110000
DTSTAMP:20260423T171511
CREATED:20180129T232244Z
LAST-MODIFIED:20180129T232244Z
UID:4189-1520676000-1520679600@manjushridharmacenter.org
SUMMARY:Saturday Morning Meditation
DESCRIPTION:Join us on Saturday mornings for meditation practice.  In Rinpoche’s absence\, meditation class will be student-led\, with a brief reading from Rinpoche’s “Meditation 101” or brief video shown\, followed by silent meditation.  We will delight our teacher by putting his teachings into practice as we learn to consciously relax our bodies\, calm our minds\, and ultimately experience our own minds directly\, naturally\, and blissfully.   A donation of $10.00 per class is requested\, but no one will be turned away for lack of funds.
URL:https://manjushridharmacenter.org/event/saturday-morning-meditation-17/
LOCATION:Private Residence\, CA\, United States
CATEGORIES:Meditation
ATTACH;FMTTYPE=image/jpeg:https://manjushridharmacenter.org/wp-content/uploads/2017/11/meditation-857916_960_720.jpg
END:VEVENT
BEGIN:VEVENT
DTSTART;TZID=America/Los_Angeles:20180317T100000
DTEND;TZID=America/Los_Angeles:20180317T110000
DTSTAMP:20260423T171511
CREATED:20180129T232410Z
LAST-MODIFIED:20180129T232410Z
UID:4191-1521280800-1521284400@manjushridharmacenter.org
SUMMARY:Saturday Morning Meditation
DESCRIPTION:Join us on Saturday mornings for meditation practice.  In Rinpoche’s absence\, meditation class will be student-led\, with a brief reading from Rinpoche’s “Meditation 101” or brief video shown\, followed by silent meditation.  We will delight our teacher by putting his teachings into practice as we learn to consciously relax our bodies\, calm our minds\, and ultimately experience our own minds directly\, naturally\, and blissfully.   A donation of $10.00 per class is requested\, but no one will be turned away for lack of funds.
URL:https://manjushridharmacenter.org/event/saturday-morning-meditation-18/
LOCATION:Private Residence\, CA\, United States
CATEGORIES:Meditation
ATTACH;FMTTYPE=image/jpeg:https://manjushridharmacenter.org/wp-content/uploads/2017/11/meditation-857916_960_720.jpg
END:VEVENT
BEGIN:VEVENT
DTSTART;TZID=America/Los_Angeles:20180324T100000
DTEND;TZID=America/Los_Angeles:20180324T110000
DTSTAMP:20260423T171511
CREATED:20180129T232507Z
LAST-MODIFIED:20180129T232507Z
UID:4193-1521885600-1521889200@manjushridharmacenter.org
SUMMARY:Saturday Morning Meditation
DESCRIPTION:Join us on Saturday mornings for meditation practice.  In Rinpoche’s absence\, meditation class will be student-led\, with a brief reading from Rinpoche’s “Meditation 101” or brief video shown\, followed by silent meditation.  We will delight our teacher by putting his teachings into practice as we learn to consciously relax our bodies\, calm our minds\, and ultimately experience our own minds directly\, naturally\, and blissfully.   A donation of $10.00 per class is requested\, but no one will be turned away for lack of funds.
URL:https://manjushridharmacenter.org/event/saturday-morning-meditation-19/
LOCATION:Private Residence\, CA\, United States
CATEGORIES:Meditation
ATTACH;FMTTYPE=image/jpeg:https://manjushridharmacenter.org/wp-content/uploads/2017/11/meditation-857916_960_720.jpg
END:VEVENT
BEGIN:VEVENT
DTSTART;TZID=America/Los_Angeles:20180331T100000
DTEND;TZID=America/Los_Angeles:20180331T110000
DTSTAMP:20260423T171511
CREATED:20180129T232624Z
LAST-MODIFIED:20180207T184612Z
UID:4195-1522490400-1522494000@manjushridharmacenter.org
SUMMARY:Saturday Morning Meditation
DESCRIPTION:Join us on Saturday mornings for meditation practice.  In Rinpoche’s absence\, meditation class will be student-led\, with a brief reading from Rinpoche’s “Meditation 101” or brief video shown\, followed by silent meditation.  We will delight our teacher by putting his teachings into practice as we learn to consciously relax our bodies\, calm our minds\, and ultimately experience our own minds directly\, naturally\, and blissfully.   A donation of $10.00 per class is requested\, but no one will be turned away for lack of funds.
URL:https://manjushridharmacenter.org/event/saturday-morning-meditation-20/
LOCATION:Private Residence\, CA\, United States
CATEGORIES:Meditation
ATTACH;FMTTYPE=image/jpeg:https://manjushridharmacenter.org/wp-content/uploads/2017/11/meditation-857916_960_720.jpg
END:VEVENT
END:VCALENDAR