BEGIN:VCALENDAR
VERSION:2.0
PRODID:-//Manjushri Dharma Center - ECPv5.16.4.1//NONSGML v1.0//EN
CALSCALE:GREGORIAN
METHOD:PUBLISH
X-ORIGINAL-URL:https://manjushridharmacenter.org
X-WR-CALDESC:Events for Manjushri Dharma Center
REFRESH-INTERVAL;VALUE=DURATION:PT1H
X-Robots-Tag:noindex
X-PUBLISHED-TTL:PT1H
BEGIN:VTIMEZONE
TZID:America/Los_Angeles
BEGIN:DAYLIGHT
TZOFFSETFROM:-0800
TZOFFSETTO:-0700
TZNAME:PDT
DTSTART:20180311T100000
END:DAYLIGHT
BEGIN:STANDARD
TZOFFSETFROM:-0700
TZOFFSETTO:-0800
TZNAME:PST
DTSTART:20181104T090000
END:STANDARD
END:VTIMEZONE
BEGIN:VEVENT
DTSTART;TZID=America/Los_Angeles:20180714T100000
DTEND;TZID=America/Los_Angeles:20180714T230000
DTSTAMP:20260423T102649
CREATED:20180407T135415Z
LAST-MODIFIED:20180713T212838Z
UID:4260-1531562400-1531609200@manjushridharmacenter.org
SUMMARY:No Saturday Morning Meditation
DESCRIPTION:Rinpoche just returned from his trip to India\, and has developed a minor cough.  He will rest on Saturday\, and we wish him a full recovery! \nMeditation is a helpful way to relax the body and calm the mind.  Join us Saturday mornings as Rinpoche gives a brief teaching followed by silent meditation practice.  Afterwards\, we enjoy tea together.  A donation of $10.00 per class is requested\, but no one will be turned away for lack of funds.
URL:https://manjushridharmacenter.org/event/saturday-morning-meditation-22-2018-07-14/
LOCATION:Private Residence\, CA\, United States
CATEGORIES:Meditation
ATTACH;FMTTYPE=image/jpeg:https://manjushridharmacenter.org/wp-content/uploads/2017/11/meditation-857916_960_720.jpg
END:VEVENT
END:VCALENDAR