BEGIN:VCALENDAR
VERSION:2.0
PRODID:-//Manjushri Dharma Center - ECPv5.16.4.1//NONSGML v1.0//EN
CALSCALE:GREGORIAN
METHOD:PUBLISH
X-WR-CALNAME:Manjushri Dharma Center
X-ORIGINAL-URL:https://manjushridharmacenter.org
X-WR-CALDESC:Events for Manjushri Dharma Center
REFRESH-INTERVAL;VALUE=DURATION:PT1H
X-Robots-Tag:noindex
X-PUBLISHED-TTL:PT1H
BEGIN:VTIMEZONE
TZID:America/Los_Angeles
BEGIN:DAYLIGHT
TZOFFSETFROM:-0800
TZOFFSETTO:-0700
TZNAME:PDT
DTSTART:20190310T100000
END:DAYLIGHT
BEGIN:STANDARD
TZOFFSETFROM:-0700
TZOFFSETTO:-0800
TZNAME:PST
DTSTART:20191103T090000
END:STANDARD
END:VTIMEZONE
BEGIN:VEVENT
DTSTART;TZID=America/Los_Angeles:20190114T183000
DTEND;TZID=America/Los_Angeles:20190114T200000
DTSTAMP:20260422T234645
CREATED:20180408T154737Z
LAST-MODIFIED:20190114T222223Z
UID:5064-1547490600-1547496000@manjushridharmacenter.org
SUMMARY:Monday Night Chanted Prayers
DESCRIPTION:Join us for this special Monday evening when Rinpoche leads us in the chanted prayers of Medicine Buddha (Buddha of Infinite Healing). Medicine Buddha offers physical and mental healing\, protection from dangers and obstacles\, and helps living beings to eradicate the three poisons – attachment\, hatred\, and ignorance – which are the source of all sickness and danger. He is a Buddha Doctor\, depicted as having a dark blue (lapis lazuli) colored body\, this being an archetypal color of healing.  With his left hand he holds a bowl of healing nectars\, and with his right\, a medicine plant. Beginners to advanced practitioners are welcome\, prayer books are provided. Free of charge\, but donations are welcome.
URL:https://manjushridharmacenter.org/event/monday-night-chanted-prayers-16-2018-04-16-2019-01-14/
LOCATION:Manjushri Dharma Center\, 724 Forest Ave\, Pacific Grove\, CA\, 93950\, United States
CATEGORIES:Discussion/Support,Meditation,Special Events
ATTACH;FMTTYPE=image/png:https://manjushridharmacenter.org/wp-content/uploads/2018/04/Screen-Shot-2019-01-14-at-10.52.37-AM.png
END:VEVENT
END:VCALENDAR