BEGIN:VCALENDAR
VERSION:2.0
PRODID:-//Manjushri Dharma Center - ECPv5.16.4.1//NONSGML v1.0//EN
CALSCALE:GREGORIAN
METHOD:PUBLISH
X-ORIGINAL-URL:https://manjushridharmacenter.org
X-WR-CALDESC:Events for Manjushri Dharma Center
REFRESH-INTERVAL;VALUE=DURATION:PT1H
X-Robots-Tag:noindex
X-PUBLISHED-TTL:PT1H
BEGIN:VTIMEZONE
TZID:America/Los_Angeles
BEGIN:DAYLIGHT
TZOFFSETFROM:-0800
TZOFFSETTO:-0700
TZNAME:PDT
DTSTART:20240310T100000
END:DAYLIGHT
BEGIN:STANDARD
TZOFFSETFROM:-0700
TZOFFSETTO:-0800
TZNAME:PST
DTSTART:20241103T090000
END:STANDARD
END:VTIMEZONE
BEGIN:VEVENT
DTSTART;TZID=America/Los_Angeles:20240203T100000
DTEND;TZID=America/Los_Angeles:20240203T110000
DTSTAMP:20260420T111145
CREATED:20230130T233633Z
LAST-MODIFIED:20240201T223413Z
UID:253127-1706954400-1706958000@manjushridharmacenter.org
SUMMARY:Canceled:  Saturday Morning Meditation
DESCRIPTION:Rinpoche is not feeling well\, so this Saturdays (Feb.3\, 2024) meditation is canceled.  Thank you for understanding!  Get well Rinpoche!  (posted 2-1-2024) \n  \nThis Saturday at 10am PST\, Rinpoche will continue Saturday Morning Meditation both in-person at the Manjushri Dharma Center and on Zoom due to a large number of the Sangha members participating online. \nOnline via the MDC Zoom:   \nhttps://us02web.zoom.us/j/86274306749?pwd=MHhxUmtQZlVmWDJKUklSS3QvV05rdz09\nMeeting ID: 862 7430 6749\nPasscode: Love=Peace\nOne tap mobile\n+16699009128\,\,86274306749#\,\,\,\,*4723131265# US (San Jose)\n+16694449171\,\,86274306749#\,\,\,\,*4723131265# US\n\n\nDial by your location\n        +1 669 900 9128 US (San Jose)\n        +1 669 444 9171 US\n        +1 719 359 4580 US\n        +1 253 205 0468 US\n        +1 253 215 8782 US (Tacoma)\n        +1 346 248 7799 US (Houston)\n        +1 564 217 2000 US\n        +1 646 558 8656 US (New York)\n        +1 646 931 3860 US\n        +1 689 278 1000 US\n        +1 301 715 8592 US (Washington DC)\n        +1 305 224 1968 US\n        +1 309 205 3325 US\n        +1 312 626 6799 US (Chicago)\n        +1 360 209 5623 US\n        +1 386 347 5053 US\n        +1 507 473 4847 US\nMeeting ID: 862 7430 6749\nPasscode: 4723131265\nFind your local number: https://us02web.zoom.us/u/kdVGgCWTHU
URL:https://manjushridharmacenter.org/event/saturday-morning-meditation-23-2023-08-12/
LOCATION:Manjushri Dharma Center\, 724 Forest Ave\, Pacific Grove\, CA\, 93950\, United States
CATEGORIES:Meditation
ATTACH;FMTTYPE=image/jpeg:https://manjushridharmacenter.org/wp-content/uploads/2022/12/altar.jpg
END:VEVENT
BEGIN:VEVENT
DTSTART;TZID=America/Los_Angeles:20240210T100000
DTEND;TZID=America/Los_Angeles:20240210T110000
DTSTAMP:20260420T111145
CREATED:20230130T233633Z
LAST-MODIFIED:20240207T213216Z
UID:253124-1707559200-1707562800@manjushridharmacenter.org
SUMMARY:Canceled:  Saturday Morning Meditation
DESCRIPTION:Update 2/7/24:  While Rinpoche feels better each day\, we are going to cancel all Feb.10th activities at MDC.   Rinpoche will be able to rest and make sure he is healthy for his upcoming East Asia trip.   Thank you Dechen for checking on him just yesterday\, and thank you to Dechen\, Ngndrup\, and the new Tibetan family who have been keeping Rinpoche supplied with lots of healing and comforting Tibetan foods!  Rest well\, heal well\, and bon voyage Rinpoche!  \n \n 
URL:https://manjushridharmacenter.org/event/saturday-morning-meditation-23-2023-07-22/
LOCATION:online event\, CA\, United States
CATEGORIES:Meditation
ATTACH;FMTTYPE=image/jpeg:https://manjushridharmacenter.org/wp-content/uploads/2022/12/altar.jpg
END:VEVENT
END:VCALENDAR