BEGIN:VCALENDAR
VERSION:2.0
PRODID:-//Manjushri Dharma Center - ECPv5.16.4.1//NONSGML v1.0//EN
CALSCALE:GREGORIAN
METHOD:PUBLISH
X-WR-CALNAME:Manjushri Dharma Center
X-ORIGINAL-URL:https://manjushridharmacenter.org
X-WR-CALDESC:Events for Manjushri Dharma Center
REFRESH-INTERVAL;VALUE=DURATION:PT1H
X-Robots-Tag:noindex
X-PUBLISHED-TTL:PT1H
BEGIN:VTIMEZONE
TZID:America/Los_Angeles
BEGIN:DAYLIGHT
TZOFFSETFROM:-0800
TZOFFSETTO:-0700
TZNAME:PDT
DTSTART:20240310T100000
END:DAYLIGHT
BEGIN:STANDARD
TZOFFSETFROM:-0700
TZOFFSETTO:-0800
TZNAME:PST
DTSTART:20241103T090000
END:STANDARD
END:VTIMEZONE
BEGIN:VEVENT
DTSTART;TZID=America/Los_Angeles:20240323T100000
DTEND;TZID=America/Los_Angeles:20240323T110000
DTSTAMP:20260420T130610
CREATED:20240217T015128Z
LAST-MODIFIED:20240217T015128Z
UID:254433-1711188000-1711191600@manjushridharmacenter.org
SUMMARY:Saturday Morning Meditation
DESCRIPTION:This Saturday at 10am PST\, Rinpoche will continue Saturday Morning Meditation both in-person at the Manjushri Dharma Center and on Zoom. Rinpoche usually gives a short Dharma talk or explanation on how to meditate\, but the majority of the time is devoted to silence.  Afterwards\, people attending in person can drink tea together and visit.  This particular Saturday\, meditation will be followed by the annual all-Sangha meeting (uses same Zoom link).  Tashi delek!\n \nOnline via the MDC Zoom:   \nhttps://us02web.zoom.us/j/86274306749?pwd=MHhxUmtQZlVmWDJKUklSS3QvV05rdz09\nMeeting ID: 862 7430 6749\nPasscode: Love=Peace\nOne tap mobile\n+16699009128\,\,86274306749#\,\,\,\,*4723131265# US (San Jose)\n+16694449171\,\,86274306749#\,\,\,\,*4723131265# US\n\n\nDial by your location\n        +1 669 900 9128 US (San Jose)\n        +1 669 444 9171 US\n        +1 719 359 4580 US\n        +1 253 205 0468 US\n        +1 253 215 8782 US (Tacoma)\n        +1 346 248 7799 US (Houston)\n        +1 564 217 2000 US\n        +1 646 558 8656 US (New York)\n        +1 646 931 3860 US\n        +1 689 278 1000 US\n        +1 301 715 8592 US (Washington DC)\n        +1 305 224 1968 US\n        +1 309 205 3325 US\n        +1 312 626 6799 US (Chicago)\n        +1 360 209 5623 US\n        +1 386 347 5053 US\n        +1 507 473 4847 US\nMeeting ID: 862 7430 6749\nPasscode: 4723131265\nFind your local number: https://us02web.zoom.us/u/kdVGgCWTHU
URL:https://manjushridharmacenter.org/event/saturday-morning-meditation-24/
LOCATION:Manjushri Dharma Center\, 724 Forest Ave\, Pacific Grove\, CA\, 93950\, United States
CATEGORIES:Meditation
ATTACH;FMTTYPE=image/jpeg:https://manjushridharmacenter.org/wp-content/uploads/2023/06/87578510_10219705169013844_1148114044633219072_n.jpg
END:VEVENT
BEGIN:VEVENT
DTSTART;TZID=America/Los_Angeles:20240330T100000
DTEND;TZID=America/Los_Angeles:20240330T110000
DTSTAMP:20260420T130610
CREATED:20240312T190657Z
LAST-MODIFIED:20240327T040415Z
UID:254762-1711792800-1711796400@manjushridharmacenter.org
SUMMARY:Saturday Morning Meditation
DESCRIPTION:Meditation is a helpful way to relax the body and calm the mind\, and it can help us connect to timeless\, deep\, and true contentment.  Join us Saturday mornings as Rinpoche gives a brief teaching followed by silent meditation practice.  Afterwards\, we enjoy tea together.  A donation of $10.00 per class is requested\, but no one will be turned away for lack of funds. \nSaturday morning meditation is held both in-person at the Dharma Center and virtually on Zoom.\n\nPlease do join us for this profound practice. Tashi Delek!\n\n\n\nZoom Link to Join: \nhttps://us02web.zoom.us/j/86274306749?pwd=MHhxUmtQZlVmWDJKUklSS3QvV05rdz09\nMeeting ID: 862 7430 6749\nPasscode: Love=Peace\nOne tap mobile\n+16699009128\,\,86274306749#\,\,\,\,*4723131265# US (San Jose)\n+16694449171\,\,86274306749#\,\,\,\,*4723131265# US\n\n\nDial by your location\n        +1 669 900 9128 US (San Jose)\n        +1 669 444 9171 US\n        +1 719 359 4580 US\n        +1 253 205 0468 US\n        +1 253 215 8782 US (Tacoma)\n        +1 346 248 7799 US (Houston)\n        +1 564 217 2000 US\n        +1 646 558 8656 US (New York)\n        +1 646 931 3860 US\n        +1 689 278 1000 US\n        +1 301 715 8592 US (Washington DC)\n        +1 305 224 1968 US\n        +1 309 205 3325 US\n        +1 312 626 6799 US (Chicago)\n        +1 360 209 5623 US\n        +1 386 347 5053 US\n        +1 507 473 4847 US\nMeeting ID: 862 7430 6749\nPasscode: 4723131265\nFind your local number: https://us02web.zoom.us/u/kdVGgCWTHU\n\n\n 
URL:https://manjushridharmacenter.org/event/saturday-morning-meditation-27/
LOCATION:Manjushri Dharma Center\, 724 Forest Ave\, Pacific Grove\, CA\, 93950\, United States
CATEGORIES:Meditation
ATTACH;FMTTYPE=image/jpeg:https://manjushridharmacenter.org/wp-content/uploads/2024/02/2024TaiwanAmitabhaRetreat_FirstHalf_Feb15to18_Photo5.jpg
END:VEVENT
END:VCALENDAR