BEGIN:VCALENDAR
VERSION:2.0
PRODID:-//Manjushri Dharma Center - ECPv5.16.4.1//NONSGML v1.0//EN
CALSCALE:GREGORIAN
METHOD:PUBLISH
X-WR-CALNAME:Manjushri Dharma Center
X-ORIGINAL-URL:https://manjushridharmacenter.org
X-WR-CALDESC:Events for Manjushri Dharma Center
REFRESH-INTERVAL;VALUE=DURATION:PT1H
X-Robots-Tag:noindex
X-PUBLISHED-TTL:PT1H
BEGIN:VTIMEZONE
TZID:America/Los_Angeles
BEGIN:DAYLIGHT
TZOFFSETFROM:-0800
TZOFFSETTO:-0700
TZNAME:PDT
DTSTART:20250309T100000
END:DAYLIGHT
BEGIN:STANDARD
TZOFFSETFROM:-0700
TZOFFSETTO:-0800
TZNAME:PST
DTSTART:20251102T090000
END:STANDARD
END:VTIMEZONE
BEGIN:VEVENT
DTSTART;TZID=America/Los_Angeles:20251101T100000
DTEND;TZID=America/Los_Angeles:20251101T110000
DTSTAMP:20260423T101623
CREATED:20251014T004950Z
LAST-MODIFIED:20251020T200653Z
UID:259159-1761991200-1761994800@manjushridharmacenter.org
SUMMARY:Student-facilitated Saturday Morning Silent Meditation
DESCRIPTION:Meditation is a helpful way to relax the body and calm the mind\, and it can help us connect to timeless\, innate inner peace.  While Rinpoche is away\, we will continue to open the Dharma Center for Saturday morning meditation.  What better way to honor our teacher than to practice! \nIn-person only while Rinpoche is away\, no Zoom option (apologies!)
URL:https://manjushridharmacenter.org/event/student-led-saturday-morning-meditation-4/
LOCATION:Manjushri Dharma Center\, 724 Forest Ave\, Pacific Grove\, CA\, 93950\, United States
CATEGORIES:Meditation
ATTACH;FMTTYPE=image/jpeg:https://manjushridharmacenter.org/wp-content/uploads/2025/04/7.26.21-tibetmountains-Image-by-Free-Photos-from-Pixabay.jpg
END:VEVENT
BEGIN:VEVENT
DTSTART;TZID=America/Los_Angeles:20251108T100000
DTEND;TZID=America/Los_Angeles:20251108T110000
DTSTAMP:20260423T101623
CREATED:20251014T005138Z
LAST-MODIFIED:20251020T200748Z
UID:259161-1762596000-1762599600@manjushridharmacenter.org
SUMMARY:Student-facilitated Saturday Morning Silent Meditation
DESCRIPTION:Meditation is a helpful way to relax the body and calm the mind\, and it can help us connect to timeless\, innate inner peace.  While Rinpoche is away\, we will continue to open the Dharma Center for Saturday morning meditation.  What better way to honor our teacher than to practice! \nIn-person only while Rinpoche is away\, no Zoom option (apologies!)
URL:https://manjushridharmacenter.org/event/student-led-saturday-morning-meditation-5/
LOCATION:Manjushri Dharma Center\, 724 Forest Ave\, Pacific Grove\, CA\, 93950\, United States
CATEGORIES:Meditation
ATTACH;FMTTYPE=image/jpeg:https://manjushridharmacenter.org/wp-content/uploads/2017/11/meditation-857916_960_720.jpg
END:VEVENT
BEGIN:VEVENT
DTSTART;TZID=America/Los_Angeles:20251115T100000
DTEND;TZID=America/Los_Angeles:20251115T110000
DTSTAMP:20260423T101623
CREATED:20251014T005806Z
LAST-MODIFIED:20251115T040229Z
UID:259164-1763200800-1763204400@manjushridharmacenter.org
SUMMARY:No Saturday Morning Silent Meditation
DESCRIPTION:We will not host Saturday meditation on November 15th  nor on November 22nd\, as Rinpoche is returning and continuing his solitary\, silent retreat from the comfort of his own home.  Please continue to refrain from contacting Rinpoche to honor his retreat wishes.   We will return to regular Monday night prayers and Saturday meditation with Rinpoche the week of November 24th. \n 
URL:https://manjushridharmacenter.org/event/student-led-saturday-morning-meditation-6/
LOCATION:Manjushri Dharma Center\, 724 Forest Ave\, Pacific Grove\, CA\, 93950\, United States
CATEGORIES:Meditation
ATTACH;FMTTYPE=image/jpeg:https://manjushridharmacenter.org/wp-content/uploads/2024/02/TaiwanAmitabaRetreat-SecondHalf_7bigsky_scenicwalk4.jpg
END:VEVENT
END:VCALENDAR