BEGIN:VCALENDAR
VERSION:2.0
PRODID:-//Manjushri Dharma Center - ECPv5.16.4.1//NONSGML v1.0//EN
CALSCALE:GREGORIAN
METHOD:PUBLISH
X-WR-CALNAME:Manjushri Dharma Center
X-ORIGINAL-URL:https://manjushridharmacenter.org
X-WR-CALDESC:Events for Manjushri Dharma Center
REFRESH-INTERVAL;VALUE=DURATION:PT1H
X-Robots-Tag:noindex
X-PUBLISHED-TTL:PT1H
BEGIN:VTIMEZONE
TZID:America/Los_Angeles
BEGIN:DAYLIGHT
TZOFFSETFROM:-0800
TZOFFSETTO:-0700
TZNAME:PDT
DTSTART:20170312T100000
END:DAYLIGHT
BEGIN:STANDARD
TZOFFSETFROM:-0700
TZOFFSETTO:-0800
TZNAME:PST
DTSTART:20171105T090000
END:STANDARD
END:VTIMEZONE
BEGIN:VEVENT
DTSTART;TZID=America/Los_Angeles:20170904T100000
DTEND;TZID=America/Los_Angeles:20170904T110000
DTSTAMP:20260424T064804
CREATED:20170904T193156Z
LAST-MODIFIED:20170904T193337Z
UID:3543-1504519200-1504522800@manjushridharmacenter.org
SUMMARY:Saturday Morning Meditation
DESCRIPTION:Meditation is a helpful way to relax the body\, calm the mind\, and learn to know the mind.  Join us Saturday mornings as Rinpoche gives a brief teaching followed by silent meditation practice.   A donation of $10.00 per class is requested\, but no one will be turned away for lack of funds.
URL:https://manjushridharmacenter.org/event/saturday-morning-meditation/
LOCATION:Private Residence\, CA\, United States
CATEGORIES:Meditation
ATTACH;FMTTYPE=image/jpeg:https://manjushridharmacenter.org/wp-content/uploads/2016/06/lotus.jpg
END:VEVENT
END:VCALENDAR