BEGIN:VCALENDAR
VERSION:2.0
PRODID:-//Manjushri Dharma Center - ECPv5.16.4.1//NONSGML v1.0//EN
CALSCALE:GREGORIAN
METHOD:PUBLISH
X-WR-CALNAME:Manjushri Dharma Center
X-ORIGINAL-URL:https://manjushridharmacenter.org
X-WR-CALDESC:Events for Manjushri Dharma Center
REFRESH-INTERVAL;VALUE=DURATION:PT1H
X-Robots-Tag:noindex
X-PUBLISHED-TTL:PT1H
BEGIN:VTIMEZONE
TZID:America/Los_Angeles
BEGIN:DAYLIGHT
TZOFFSETFROM:-0800
TZOFFSETTO:-0700
TZNAME:PDT
DTSTART:20180311T100000
END:DAYLIGHT
BEGIN:STANDARD
TZOFFSETFROM:-0700
TZOFFSETTO:-0800
TZNAME:PST
DTSTART:20181104T090000
END:STANDARD
END:VTIMEZONE
BEGIN:VEVENT
DTSTART;TZID=America/Los_Angeles:20180127T100000
DTEND;TZID=America/Los_Angeles:20180127T110000
DTSTAMP:20260423T224442
CREATED:20180101T235649Z
LAST-MODIFIED:20180122T213906Z
UID:4046-1517047200-1517050800@manjushridharmacenter.org
SUMMARY:Saturday Morning Meditation
DESCRIPTION:Join us on Saturday mornings for meditation practice.  In Rinpoche’s absence\, meditation class will be student-led\, with a brief reading from Rinpoche’s “Meditation 101” or brief video shown\, followed by silent meditation.  We will delight our teacher by putting his teachings into practice as we learn to consciously relax our bodies\, calm our minds\, and ultimately experience our own minds directly\, naturally\, and blissfully.   A donation of $10.00 per class is requested\, but no one will be turned away for lack of funds.
URL:https://manjushridharmacenter.org/event/saturday-morning-meditation-11/
LOCATION:Private Residence\, CA\, United States
CATEGORIES:Meditation
ATTACH;FMTTYPE=image/jpeg:https://manjushridharmacenter.org/wp-content/uploads/2017/12/eye-333499_960_720.jpg
END:VEVENT
END:VCALENDAR