BEGIN:VCALENDAR
VERSION:2.0
PRODID:-//Manjushri Dharma Center - ECPv5.16.4.1//NONSGML v1.0//EN
CALSCALE:GREGORIAN
METHOD:PUBLISH
X-WR-CALNAME:Manjushri Dharma Center
X-ORIGINAL-URL:https://manjushridharmacenter.org
X-WR-CALDESC:Events for Manjushri Dharma Center
REFRESH-INTERVAL;VALUE=DURATION:PT1H
X-Robots-Tag:noindex
X-PUBLISHED-TTL:PT1H
BEGIN:VTIMEZONE
TZID:America/Los_Angeles
BEGIN:DAYLIGHT
TZOFFSETFROM:-0800
TZOFFSETTO:-0700
TZNAME:PDT
DTSTART:20190310T100000
END:DAYLIGHT
BEGIN:STANDARD
TZOFFSETFROM:-0700
TZOFFSETTO:-0800
TZNAME:PST
DTSTART:20191103T090000
END:STANDARD
END:VTIMEZONE
BEGIN:VEVENT
DTSTART;TZID=America/Los_Angeles:20190323T100000
DTEND;TZID=America/Los_Angeles:20190323T110000
DTSTAMP:20260422T220548
CREATED:20180407T135415Z
LAST-MODIFIED:20190318T184940Z
UID:5095-1553335200-1553338800@manjushridharmacenter.org
SUMMARY:CANCELED\, Saturday Morning Meditation
DESCRIPTION:We will be in retreat on March 23rd\, so no regular meditation class.  We will resume again on March 30th. \nMeditation is a helpful way to relax the body and calm the mind.  Join us Saturday mornings as Rinpoche gives a brief teaching followed by silent meditation practice.  Afterwards\, we enjoy tea together.  A donation of $10.00 per class is requested\, but no one will be turned away for lack of funds.
URL:https://manjushridharmacenter.org/event/saturday-morning-meditation-22-2019-03-23/
LOCATION:Manjushri Dharma Center\, 724 Forest Ave\, Pacific Grove\, CA\, 93950\, United States
CATEGORIES:Meditation
ATTACH;FMTTYPE=image/jpeg:https://manjushridharmacenter.org/wp-content/uploads/2017/11/meditation-857916_960_720.jpg
END:VEVENT
END:VCALENDAR