BEGIN:VCALENDAR
VERSION:2.0
PRODID:-//Manjushri Dharma Center - ECPv5.16.4.1//NONSGML v1.0//EN
CALSCALE:GREGORIAN
METHOD:PUBLISH
X-WR-CALNAME:Manjushri Dharma Center
X-ORIGINAL-URL:https://manjushridharmacenter.org
X-WR-CALDESC:Events for Manjushri Dharma Center
REFRESH-INTERVAL;VALUE=DURATION:PT1H
X-Robots-Tag:noindex
X-PUBLISHED-TTL:PT1H
BEGIN:VTIMEZONE
TZID:America/Los_Angeles
BEGIN:DAYLIGHT
TZOFFSETFROM:-0800
TZOFFSETTO:-0700
TZNAME:PDT
DTSTART:20190310T100000
END:DAYLIGHT
BEGIN:STANDARD
TZOFFSETFROM:-0700
TZOFFSETTO:-0800
TZNAME:PST
DTSTART:20191103T090000
END:STANDARD
END:VTIMEZONE
BEGIN:VEVENT
DTSTART;TZID=America/Los_Angeles:20190519T100000
DTEND;TZID=America/Los_Angeles:20190519T120000
DTSTAMP:20260422T183629
CREATED:20190513T001556Z
LAST-MODIFIED:20190513T001603Z
UID:5443-1558260000-1558267200@manjushridharmacenter.org
SUMMARY:Celebration of Buddha's Birthday at Carmel Sambosa Temple
DESCRIPTION:Carmel Sambosa Temple\, the location of our retreat this past April\, is hosting a “Celebration of Buddha’s Birthday” Sunday\, May 19\, going from 10 AM with prayers and a musical celebration\, and concluding with a provided lunch at Noon. \n\n \nAll of us are invited to visit our sister sangha\, located at 28110 Robinson Canyon Rd\, Carmel Valley\, 93923.\n\n \nSee the attached flyer for details.
URL:https://manjushridharmacenter.org/event/celebration-of-buddhas-birthday-at-carmel-sambosa-temple/
LOCATION:Carmel Sambosa\, “Three Jewels Temple”\, 28110 Robinson Canyon Rd\, Carmel Valley\, CA\, 93923\, United States
CATEGORIES:Dharma Class,Discussion/Support,Meditation,Special Events
ATTACH;FMTTYPE=image/png:https://manjushridharmacenter.org/wp-content/uploads/2019/05/Screen-Shot-2019-05-12-at-4.52.38-PM.png
END:VEVENT
END:VCALENDAR