BEGIN:VCALENDAR
VERSION:2.0
PRODID:-//Manjushri Dharma Center - ECPv5.16.4.1//NONSGML v1.0//EN
CALSCALE:GREGORIAN
METHOD:PUBLISH
X-WR-CALNAME:Manjushri Dharma Center
X-ORIGINAL-URL:https://manjushridharmacenter.org
X-WR-CALDESC:Events for Manjushri Dharma Center
REFRESH-INTERVAL;VALUE=DURATION:PT1H
X-Robots-Tag:noindex
X-PUBLISHED-TTL:PT1H
BEGIN:VTIMEZONE
TZID:America/Los_Angeles
BEGIN:DAYLIGHT
TZOFFSETFROM:-0800
TZOFFSETTO:-0700
TZNAME:PDT
DTSTART:20190310T100000
END:DAYLIGHT
BEGIN:STANDARD
TZOFFSETFROM:-0700
TZOFFSETTO:-0800
TZNAME:PST
DTSTART:20191103T090000
END:STANDARD
END:VTIMEZONE
BEGIN:VEVENT
DTSTART;TZID=America/Los_Angeles:20190709T183000
DTEND;TZID=America/Los_Angeles:20190709T200000
DTSTAMP:20260422T150302
CREATED:20190708T174631Z
LAST-MODIFIED:20190708T174631Z
UID:5507-1562697000-1562702400@manjushridharmacenter.org
SUMMARY:Evening Drop-In Silent Practice
DESCRIPTION:On July 3\, Rinpoche left on his 2-month trip to Portland and Asia with our prayers and Best Wishes as he reconnects with his vast sangha and continues to spread the Dharma. We wish him much peace\, joy and some rest on his journey. \nWhile he is gone\, we will continue with the regularly scheduled activities at the Dharma Center. In addition\, the Dharma Center will be open on Tuesday\, Thursday and Friday evenings from 6:30 pm to 8:00 pm for any drop-ins seeking a silent\, sacred space to do quiet sitting\, personal meditation\, or for reciting your prayers. You may enter and leave as you wish during those times\, just be respectful of others wish for quiet as you do so.
URL:https://manjushridharmacenter.org/event/evening-drop-in-silent-practice/
LOCATION:Manjushri Dharma Center\, 724 Forest Ave\, Pacific Grove\, CA\, 93950\, United States
CATEGORIES:Meditation
ATTACH;FMTTYPE=image/jpeg:https://manjushridharmacenter.org/wp-content/uploads/2019/02/Rinpoche.BigSur.2.2019.jpg
END:VEVENT
END:VCALENDAR