BEGIN:VCALENDAR
VERSION:2.0
PRODID:-//Manjushri Dharma Center - ECPv5.16.4.1//NONSGML v1.0//EN
CALSCALE:GREGORIAN
METHOD:PUBLISH
X-ORIGINAL-URL:https://manjushridharmacenter.org
X-WR-CALDESC:Events for Manjushri Dharma Center
REFRESH-INTERVAL;VALUE=DURATION:PT1H
X-Robots-Tag:noindex
X-PUBLISHED-TTL:PT1H
BEGIN:VTIMEZONE
TZID:America/Los_Angeles
BEGIN:DAYLIGHT
TZOFFSETFROM:-0800
TZOFFSETTO:-0700
TZNAME:PDT
DTSTART:20190310T100000
END:DAYLIGHT
BEGIN:STANDARD
TZOFFSETFROM:-0700
TZOFFSETTO:-0800
TZNAME:PST
DTSTART:20191103T090000
END:STANDARD
END:VTIMEZONE
BEGIN:VEVENT
DTSTART;TZID=America/Los_Angeles:20190907T100000
DTEND;TZID=America/Los_Angeles:20190907T110000
DTSTAMP:20260422T132345
CREATED:20180407T135415Z
LAST-MODIFIED:20190901T190444Z
UID:5670-1567850400-1567854000@manjushridharmacenter.org
SUMMARY:A Very Special Saturday Morning Meditation with Blessings from His Holiness the Dalai Lama Through Our Rinpoche
DESCRIPTION:During Rinpoche’s audience with HHDL he was given a Buddha statue\, a blessing and the request to offer a blessing to our sangha. To receive this wonderful blessing from HHDL through our Rinpoche\, please attend our 9/7 Saturday morning meditation starting at 10 am at which time Rinpoche will give a teaching on Gampopa\, on his visit with HHDL and bestow the blessing on each person present. Please don’t miss this opportunity. Afterwards\, we enjoy tea together. A donation of $10.00 per class is requested\, but no one will be turned away for lack of funds.
URL:https://manjushridharmacenter.org/event/saturday-morning-meditation-22-2019-09-07/
LOCATION:Manjushri Dharma Center\, 724 Forest Ave\, Pacific Grove\, CA\, 93950\, United States
CATEGORIES:Meditation
ATTACH;FMTTYPE=image/png:https://manjushridharmacenter.org/wp-content/uploads/2019/09/Screen-Shot-2019-09-01-at-9.42.13-AM.png
END:VEVENT
END:VCALENDAR