BEGIN:VCALENDAR
VERSION:2.0
PRODID:-//Manjushri Dharma Center - ECPv5.16.4.1//NONSGML v1.0//EN
CALSCALE:GREGORIAN
METHOD:PUBLISH
X-WR-CALNAME:Manjushri Dharma Center
X-ORIGINAL-URL:https://manjushridharmacenter.org
X-WR-CALDESC:Events for Manjushri Dharma Center
REFRESH-INTERVAL;VALUE=DURATION:PT1H
X-Robots-Tag:noindex
X-PUBLISHED-TTL:PT1H
BEGIN:VTIMEZONE
TZID:America/Los_Angeles
BEGIN:DAYLIGHT
TZOFFSETFROM:-0800
TZOFFSETTO:-0700
TZNAME:PDT
DTSTART:20190310T100000
END:DAYLIGHT
BEGIN:STANDARD
TZOFFSETFROM:-0700
TZOFFSETTO:-0800
TZNAME:PST
DTSTART:20191103T090000
END:STANDARD
END:VTIMEZONE
BEGIN:VEVENT
DTSTART;TZID=America/Los_Angeles:20191116T090000
DTEND;TZID=America/Los_Angeles:20191116T180000
DTSTAMP:20260422T132206
CREATED:20180407T135415Z
LAST-MODIFIED:20191111T212810Z
UID:5755-1573894800-1573927200@manjushridharmacenter.org
SUMMARY:Please join us for a Daylong Retreat
DESCRIPTION:We’re pleased to announce that MDC is hosting a daylong retreat involving meditation and teachings by Khenpo Karten Rinpoche on Saturday\, November 16\, 2019 from 9:00 am to 6:00 pm. Rinpoche will give teachings on the classic Dharma instruction known as “Parting from the Four Attachments”\, by Drakpa Gyaltsen\, a great 12th Century Sakya yogi. It offers a concise description on how to deepen our spiritual practices and how to transform our body\, speech and mind into a vehicle for liberation. It is considered one of the jewels of writing in Tibetan Buddhism. \nTranslation will be provided by Rinpoche’s interpreter\, Jampa Tharchin (David Molk). \nPlease bring your own lunch. Tea and healthy snacks will be provided in the afternoon. \nA suggested donation of $35 is requested. No one will be turned away due to lack of payment. \n\n[paypal_donation_button align=”left” price=”35.00″]
URL:https://manjushridharmacenter.org/event/saturday-morning-meditation-22-2019-11-16/
LOCATION:Manjushri Dharma Center\, 724 Forest Ave\, Pacific Grove\, CA\, 93950\, United States
CATEGORIES:Meditation,Retreats,Special Events
ATTACH;FMTTYPE=image/png:https://manjushridharmacenter.org/wp-content/uploads/2018/04/Screen-Shot-2019-11-05-at-2.56.16-PM.png
END:VEVENT
END:VCALENDAR