BEGIN:VCALENDAR
VERSION:2.0
PRODID:-//Manjushri Dharma Center - ECPv5.16.4.1//NONSGML v1.0//EN
CALSCALE:GREGORIAN
METHOD:PUBLISH
X-ORIGINAL-URL:https://manjushridharmacenter.org
X-WR-CALDESC:Events for Manjushri Dharma Center
REFRESH-INTERVAL;VALUE=DURATION:PT1H
X-Robots-Tag:noindex
X-PUBLISHED-TTL:PT1H
BEGIN:VTIMEZONE
TZID:America/Los_Angeles
BEGIN:DAYLIGHT
TZOFFSETFROM:-0800
TZOFFSETTO:-0700
TZNAME:PDT
DTSTART:20220313T100000
END:DAYLIGHT
BEGIN:STANDARD
TZOFFSETFROM:-0700
TZOFFSETTO:-0800
TZNAME:PST
DTSTART:20221106T090000
END:STANDARD
END:VTIMEZONE
BEGIN:VEVENT
DTSTART;VALUE=DATE:20220702
DTEND;VALUE=DATE:20220703
DTSTAMP:20260419T183142
CREATED:20220626T161605Z
LAST-MODIFIED:20220628T172905Z
UID:251824-1656720000-1656806399@manjushridharmacenter.org
SUMMARY:NO Saturday Morning Meditation (7/2)
DESCRIPTION:This upcoming Saturday\, 7/2\, there is no Saturday morning meditation. Rinpoche will be in the SF Bay Area celebrating HH the Dalai Lama’s birthday with family and the Tibetan community. Saturday morning meditation will resume the following week\, July 9. If you’re interested in attending the celebration over the weekend\, please check out the TANC website
URL:https://manjushridharmacenter.org/event/no-saturday-morning-meditation-7-2/
LOCATION:online event\, CA\, United States
CATEGORIES:Meditation
ATTACH;FMTTYPE=image/jpeg:https://manjushridharmacenter.org/wp-content/uploads/2022/06/The_purpose_of_our_lives_is_to_be_happy_-_Dalai_Lama.jpg
END:VEVENT
END:VCALENDAR