BEGIN:VCALENDAR
VERSION:2.0
PRODID:-//Manjushri Dharma Center - ECPv5.16.4.1//NONSGML v1.0//EN
CALSCALE:GREGORIAN
METHOD:PUBLISH
X-ORIGINAL-URL:https://manjushridharmacenter.org
X-WR-CALDESC:Events for Manjushri Dharma Center
REFRESH-INTERVAL;VALUE=DURATION:PT1H
X-Robots-Tag:noindex
X-PUBLISHED-TTL:PT1H
BEGIN:VTIMEZONE
TZID:America/Los_Angeles
BEGIN:DAYLIGHT
TZOFFSETFROM:-0800
TZOFFSETTO:-0700
TZNAME:PDT
DTSTART:20220313T100000
END:DAYLIGHT
BEGIN:STANDARD
TZOFFSETFROM:-0700
TZOFFSETTO:-0800
TZNAME:PST
DTSTART:20221106T090000
END:STANDARD
END:VTIMEZONE
BEGIN:VEVENT
DTSTART;TZID=America/Los_Angeles:20221015T100000
DTEND;TZID=America/Los_Angeles:20221015T110000
DTSTAMP:20260419T143237
CREATED:20220314T181910Z
LAST-MODIFIED:20221229T165728Z
UID:251231-1665828000-1665831600@manjushridharmacenter.org
SUMMARY:Saturday Morning Meditation
DESCRIPTION:All are welcome to join Saturday Morning Meditation Practice either in-person at Manjushri Dharma Center or online via Zoom. This will continue—with a high-tech twist—the long tradition of local sangha members gathering weekly on Saturday mornings to hear a dharma talk from Rinpoche and sit in silent meditation together. \nSpecial Notice* Members of the Sangha are kindly asked to wear masks when attending Saturday morning meditation at the Center due to an upsurge in COVID cases and given the small size and limited ventilation of the Manjushri Dharma Center facilities and our precious Rinpoche’s pre-existing health conditions. There will be a box of masks at the front door for those who may happen to forget theirs. There is\, of course\, always the option to join virtually on Zoom:\nZoom Link to Join: \nhttps://us02web.zoom.us/j/86345470369?pwd=Mk1QQmFXVEdkd1N3RWlrbllNWXNFQT09\nMeeting ID: 863 4547 0369\nPasscode: Peace=Love \nOne tap mobile\n+16699009128\,\,86345470369#\,\,\,\,*4296739108# US (San Jose)\n+13462487799\,\,86345470369#\,\,\,\,*4296739108# US (Houston) \nPhysical Location:\nManjushri Dharma Center\n724 Forest Avenue\, Pacific Grove CA
URL:https://manjushridharmacenter.org/event/saturday-morning-meditation-22-2022-10-15/
LOCATION:Manjushri Dharma Center\, 724 Forest Ave\, Pacific Grove\, CA\, 93950\, United States
CATEGORIES:Meditation
ATTACH;FMTTYPE=image/jpeg:https://manjushridharmacenter.org/wp-content/uploads/2022/03/unnamed-scaled.jpg
END:VEVENT
END:VCALENDAR