BEGIN:VCALENDAR
VERSION:2.0
PRODID:-//Manjushri Dharma Center - ECPv5.16.4.1//NONSGML v1.0//EN
CALSCALE:GREGORIAN
METHOD:PUBLISH
X-WR-CALNAME:Manjushri Dharma Center
X-ORIGINAL-URL:https://manjushridharmacenter.org
X-WR-CALDESC:Events for Manjushri Dharma Center
REFRESH-INTERVAL;VALUE=DURATION:PT1H
X-Robots-Tag:noindex
X-PUBLISHED-TTL:PT1H
BEGIN:VTIMEZONE
TZID:America/Los_Angeles
BEGIN:DAYLIGHT
TZOFFSETFROM:-0800
TZOFFSETTO:-0700
TZNAME:PDT
DTSTART:20230312T100000
END:DAYLIGHT
BEGIN:STANDARD
TZOFFSETFROM:-0700
TZOFFSETTO:-0800
TZNAME:PST
DTSTART:20231105T090000
END:STANDARD
END:VTIMEZONE
BEGIN:VEVENT
DTSTART;TZID=America/Los_Angeles:20230708T100000
DTEND;TZID=America/Los_Angeles:20230708T110000
DTSTAMP:20260420T000556
CREATED:20230130T233633Z
LAST-MODIFIED:20230620T034518Z
UID:253122-1688810400-1688814000@manjushridharmacenter.org
SUMMARY:No Saturday Morning Meditation
DESCRIPTION:Due to the Mahamudra Teaching being given by Rinpoche on Saturday\, July 8-9\, 2023\, there will be no regular Saturday morning meditation on July 8.   Regular meditation will begin again the following week\, on July 15\, 2023. \nMay all beings be well.  May all beings be happy. May all beings know love.  May all beings know peace.
URL:https://manjushridharmacenter.org/event/saturday-morning-meditation-23-2023-07-08/
LOCATION:online event\, CA\, United States
CATEGORIES:Meditation
ATTACH;FMTTYPE=image/jpeg:https://manjushridharmacenter.org/wp-content/uploads/2021/05/7.7.21-himalayas-nature-mount...landscape-publicdomainsnappygoat.jpg
END:VEVENT
END:VCALENDAR