BEGIN:VCALENDAR
VERSION:2.0
PRODID:-//Manjushri Dharma Center - ECPv5.16.4.1//NONSGML v1.0//EN
CALSCALE:GREGORIAN
METHOD:PUBLISH
X-ORIGINAL-URL:https://manjushridharmacenter.org
X-WR-CALDESC:Events for Manjushri Dharma Center
REFRESH-INTERVAL;VALUE=DURATION:PT1H
X-Robots-Tag:noindex
X-PUBLISHED-TTL:PT1H
BEGIN:VTIMEZONE
TZID:America/Los_Angeles
BEGIN:DAYLIGHT
TZOFFSETFROM:-0800
TZOFFSETTO:-0700
TZNAME:PDT
DTSTART:20250309T100000
END:DAYLIGHT
BEGIN:STANDARD
TZOFFSETFROM:-0700
TZOFFSETTO:-0800
TZNAME:PST
DTSTART:20251102T090000
END:STANDARD
END:VTIMEZONE
BEGIN:VEVENT
DTSTART;TZID=America/Los_Angeles:20250111T100000
DTEND;TZID=America/Los_Angeles:20250111T110000
DTSTAMP:20260419T064246
CREATED:20250106T200503Z
LAST-MODIFIED:20250106T200503Z
UID:257436-1736589600-1736593200@manjushridharmacenter.org
SUMMARY:No Saturday Morning Meditation
DESCRIPTION:There will be no meditation session at the Manjushri Dharma Center on Saturday\, January 11th\, due to our retreat.  Even if you cannot attend the retreat\, meditation at home\, on the beach\, wherever you are is so important!  Please keep up your daily practice.   We will return to our group meditation (so powerful to meditate all together with Rinpoche) on Saturday\, January 18th.
URL:https://manjushridharmacenter.org/event/no-saturday-morning-meditation-2/
LOCATION:CA
CATEGORIES:Meditation
ATTACH;FMTTYPE=image/jpeg:https://manjushridharmacenter.org/wp-content/uploads/2025/01/1-6-25-water-bubbles-on-pexels-public-domain-artist-unknown-scaled.jpeg
END:VEVENT
END:VCALENDAR