BEGIN:VCALENDAR
VERSION:2.0
PRODID:-//Manjushri Dharma Center - ECPv5.16.4.1//NONSGML v1.0//EN
CALSCALE:GREGORIAN
METHOD:PUBLISH
X-WR-CALNAME:Manjushri Dharma Center
X-ORIGINAL-URL:https://manjushridharmacenter.org
X-WR-CALDESC:Events for Manjushri Dharma Center
REFRESH-INTERVAL;VALUE=DURATION:PT1H
X-Robots-Tag:noindex
X-PUBLISHED-TTL:PT1H
BEGIN:VTIMEZONE
TZID:America/Los_Angeles
BEGIN:DAYLIGHT
TZOFFSETFROM:-0800
TZOFFSETTO:-0700
TZNAME:PDT
DTSTART:20250309T100000
END:DAYLIGHT
BEGIN:STANDARD
TZOFFSETFROM:-0700
TZOFFSETTO:-0800
TZNAME:PST
DTSTART:20251102T090000
END:STANDARD
END:VTIMEZONE
BEGIN:VEVENT
DTSTART;TZID=America/Los_Angeles:20250719T093000
DTEND;TZID=America/Los_Angeles:20250719T113000
DTSTAMP:20260424T034527
CREATED:20240930T223242Z
LAST-MODIFIED:20250629T215711Z
UID:256760-1752917400-1752924600@manjushridharmacenter.org
SUMMARY:Saturday Morning Meditation at Asilomar Beach
DESCRIPTION:Rinpoche invites all to Asilomar State Beach where we learn and practice sitting and walking meditation.  In sitting meditation\, you calm your mind and bring your awareness to the present moment.  In walking meditation\, you direct your attention to the movement and sensations of your body.  You feel your feet on the ground\, and arrive fully to the present moment with each step. \n\nMeet to Carpool at 9:30am at MDC:  We will gather at the Manjushri Dharma Center at 9:30am and carpool to the Asilomar Conference Grounds/Asilomar Beach with the hopes of starting our practice at 10am.\n\nParking at Asilomar:  Parking is free at the Asilomar Conference Grounds\, or there is parking on the street on Sunset Blvd.  Asilomar Conference Grounds also has bathrooms. \nPrayer for World Peace–we will also pray for peace in the world\, an ocean of peace–using this prayer written by Khenpo La. \nQuestions?  Contact Rachel C. at rachel.i.christo@gmail.com or 831-277-0529. \nNotes:  No beach fire this time\, keeping it simple!  Rain will mean meditation reverts to the normal 10am at the Manjushri Dharma Center. \nNo Zoom meditation on this day–so sorry dear global Sangha!
URL:https://manjushridharmacenter.org/event/meditation-at-asilomar-beach/
LOCATION:Asilomar State Beach\, 800 Asilomar Avenue\, Pacific Grove\, CA\, 93950\, United States
CATEGORIES:Meditation
ATTACH;FMTTYPE=image/jpeg:https://manjushridharmacenter.org/wp-content/uploads/2024/07/Rinpoche.MeditationBeach.Nov_.2017_16x9.jpg
END:VEVENT
END:VCALENDAR