BEGIN:VCALENDAR
VERSION:2.0
PRODID:-//Manjushri Dharma Center - ECPv5.16.4.1//NONSGML v1.0//EN
CALSCALE:GREGORIAN
METHOD:PUBLISH
X-WR-CALNAME:Manjushri Dharma Center
X-ORIGINAL-URL:https://manjushridharmacenter.org
X-WR-CALDESC:Events for Manjushri Dharma Center
REFRESH-INTERVAL;VALUE=DURATION:PT1H
X-Robots-Tag:noindex
X-PUBLISHED-TTL:PT1H
BEGIN:VTIMEZONE
TZID:America/Los_Angeles
BEGIN:DAYLIGHT
TZOFFSETFROM:-0800
TZOFFSETTO:-0700
TZNAME:PDT
DTSTART:20250309T100000
END:DAYLIGHT
BEGIN:STANDARD
TZOFFSETFROM:-0700
TZOFFSETTO:-0800
TZNAME:PST
DTSTART:20251102T090000
END:STANDARD
END:VTIMEZONE
BEGIN:VEVENT
DTSTART;TZID=America/Los_Angeles:20250830T100000
DTEND;TZID=America/Los_Angeles:20250830T110000
DTSTAMP:20260423T184802
CREATED:20250721T210122Z
LAST-MODIFIED:20250818T040448Z
UID:258695-1756548000-1756551600@manjushridharmacenter.org
SUMMARY:Saturday Morning Meditation
DESCRIPTION:Rinpoche returns on Friday evening and is planning to host meditation on Saturday\, August 30th.  However\, please check the website before heading down to make sure it’s still on!  If so\,  please come welcome our teacher back!  Meditation is a helpful way to relax the body and calm the mind\, and it can help us connect to timeless\, deep inner peace.  Join us Saturday mornings as Rinpoche gives a brief teaching followed by silent meditation practice.   After meditation\, enjoy some tea with Rinpoche and talking together.  A donation of $10.00 per class is requested\, but no one will be turned away for lack of funds. \nSaturday morning meditation is held both in-person at the Dharma Center and virtually on Zoom.\n\nPlease do join us for this profound practice. Tashi Delek!\n\n\n\nZoom Link to Join: \nhttps://us02web.zoom.us/j/86274306749?pwd=MHhxUmtQZlVmWDJKUklSS3QvV05rdz09\nMeeting ID: 862 7430 6749\nPasscode: Love=Peace\nOne tap mobile\n+16699009128\,\,86274306749#\,\,\,\,*4723131265# US (San Jose)\n+16694449171\,\,86274306749#\,\,\,\,*4723131265# US\n\n\nDial by your location\n        +1 669 900 9128 US (San Jose)\n        +1 669 444 9171 US\n        +1 719 359 4580 US\n        +1 253 205 0468 US\n        +1 253 215 8782 US (Tacoma)\n        +1 346 248 7799 US (Houston)\n        +1 564 217 2000 US\n        +1 646 558 8656 US (New York)\n        +1 646 931 3860 US\n        +1 689 278 1000 US\n        +1 301 715 8592 US (Washington DC)\n        +1 305 224 1968 US\n        +1 309 205 3325 US\n        +1 312 626 6799 US (Chicago)\n        +1 360 209 5623 US\n        +1 386 347 5053 US\n        +1 507 473 4847 US\nMeeting ID: 862 7430 6749\nPasscode: 4723131265\nFind your local number: https://us02web.zoom.us/u/kdVGgCWTHU
URL:https://manjushridharmacenter.org/event/saturday-morning-meditation-74/
LOCATION:Manjushri Dharma Center\, 724 Forest Ave\, Pacific Grove\, CA\, 93950\, United States
CATEGORIES:Meditation
ATTACH;FMTTYPE=image/jpeg:https://manjushridharmacenter.org/wp-content/uploads/2023/06/4.22.23_Earthday_Rinpoche_CarmelValley_byMilesMcBreen_1.jpg
END:VEVENT
END:VCALENDAR